BEGIN:VCALENDAR
VERSION:2.0
PRODID:-//KALIGRAFIJA Svet ustvarjalnosti - ECPv6.15.15//NONSGML v1.0//EN
CALSCALE:GREGORIAN
METHOD:PUBLISH
X-ORIGINAL-URL:https://kaligrafija.eu
X-WR-CALDESC:Dogodki za KALIGRAFIJA Svet ustvarjalnosti
REFRESH-INTERVAL;VALUE=DURATION:PT1H
X-Robots-Tag:noindex
X-PUBLISHED-TTL:PT1H
BEGIN:VTIMEZONE
TZID:Europe/Ljubljana
BEGIN:DAYLIGHT
TZOFFSETFROM:+0100
TZOFFSETTO:+0200
TZNAME:CEST
DTSTART:20230326T010000
END:DAYLIGHT
BEGIN:STANDARD
TZOFFSETFROM:+0200
TZOFFSETTO:+0100
TZNAME:CET
DTSTART:20231029T010000
END:STANDARD
BEGIN:DAYLIGHT
TZOFFSETFROM:+0100
TZOFFSETTO:+0200
TZNAME:CEST
DTSTART:20240331T010000
END:DAYLIGHT
BEGIN:STANDARD
TZOFFSETFROM:+0200
TZOFFSETTO:+0100
TZNAME:CET
DTSTART:20241027T010000
END:STANDARD
BEGIN:DAYLIGHT
TZOFFSETFROM:+0100
TZOFFSETTO:+0200
TZNAME:CEST
DTSTART:20250330T010000
END:DAYLIGHT
BEGIN:STANDARD
TZOFFSETFROM:+0200
TZOFFSETTO:+0100
TZNAME:CET
DTSTART:20251026T010000
END:STANDARD
END:VTIMEZONE
BEGIN:VEVENT
DTSTART;TZID=Europe/Ljubljana:20241104T170000
DTEND;TZID=Europe/Ljubljana:20241104T200000
DTSTAMP:20260425T034838
CREATED:20190830T113442Z
LAST-MODIFIED:20240826T151938Z
UID:1078-1730739600-1730750400@kaligrafija.eu
SUMMARY:Tečaj kaligrafije - Maribor
DESCRIPTION:16 urni tečaj:\nPoteka 4 krat po 4 šolske ure\, med 17. 00 in 20. 00. \n4. novembra\, 11. novembra\, 18. novembra in 25. novembra 2024.  \n\nO LEPOPISJU – KALIGRAFIJI\nOb učenju veščin pisanja in ob vajah lepopisja oz. kaligrafije razvijamo koncentracijo in sposobnost za vizualizacijo. Ob potezah peresa v določeni smeri se tečajniki učijo prepoznati detajle posameznih črk in tako razvijajo sposobnost pozornosti. Ta veščina ročnega izražanja je posebej primerna za otroke\, pa tudi odrasle\, ki v svetu polnem digitalne tehnike nimajo možnosti izvajati ročnih spretnosti in tako skozi zabavo razvijati sposobnost osredotočanja misli in predvsem potrpežljivosti. \nPrav zaradi teh lastnosti se kaligrafija prav tako uporablja v terapevtske namene kot neke vrste meditacija. Zaradi tehničnega izziva\, ki ga kaligrafija predstavlja\, strokovnjaki trdijo\, da se ob učenju kaligrafije razvija človekov temperament in umirjenost. Izboljša se sposobnost opazovanja\, subtilnosti\, kreativnosti in samostojnosti. Ob enem pa je pridobljena veščina dobrodošla in nepogrešljiva pri oblikovanju prazničnih voščilnic\, vabil\, pohval in priznanj\, na katere so lahko tečajniki še posebej ponosni. \n\n			\n				\n			\n			\n				\n			\n			\n				\n			\n			\n				\n			\n			\n				\n			\n		\n\nKOTIZACIJA\n\n16 urni tečaj                                                                                               140\,00 €\n\nTa znesek pa vsebuje zraven kvalitetne izvedbe tečaja še: \n– kovinsko kaligrafsko pero in tuš \n– vso potrebno gradivo – vajenice \n\n\n\n\n\n\n	Notice: JavaScript is required for this content.\n\n\n    \n\n\n        \n        \n        \n 
URL:https://kaligrafija.eu/event/tecaj-kaligrafije-maribor-2/
LOCATION:Waldorfska šola Maribor\, Valvasorjeva ulica 75\, Maribor\, 2000\, Slovenija
ATTACH;FMTTYPE=image/png:https://kaligrafija.eu/wp-content/uploads/2019/08/unnamed-3.png
ORGANIZER;CN="Natalija Resnik":MAILTO:nrg@ustvarjalnost.si
END:VEVENT
BEGIN:VEVENT
DTSTART;TZID=Europe/Ljubljana:20241106T170000
DTEND;TZID=Europe/Ljubljana:20241106T200000
DTSTAMP:20260425T034838
CREATED:20200930T113637Z
LAST-MODIFIED:20240826T145635Z
UID:1619-1730912400-1730923200@kaligrafija.eu
SUMMARY:Tečaj kaligrafije - Ljubljana
DESCRIPTION:16 urni tečaj:\nPoteka 4 krat po 4 šolske ure\, med 17. 00 in 20. 00. \n6. novembra\, 13. novembra\, 20. novembra in 27. novembra 2024.  \n\nO LEPOPISJU – KALIGRAFIJI\nOb učenju veščin pisanja in ob vajah lepopisja oz. kaligrafije razvijamo koncentracijo in sposobnost za vizualizacijo. Ob potezah peresa v določeni smeri se tečajniki učijo prepoznati detajle posameznih črk in tako razvijajo sposobnost pozornosti. Ta veščina ročnega izražanja je posebej primerna za otroke\, pa tudi odrasle\, ki v svetu polnem digitalne tehnike nimajo možnosti izvajati ročnih spretnosti in tako skozi zabavo razvijati sposobnost osredotočanja misli in predvsem potrpežljivosti. \nPrav zaradi teh lastnosti se kaligrafija prav tako uporablja v terapevtske namene kot neke vrste meditacija. Zaradi tehničnega izziva\, ki ga kaligrafija predstavlja\, strokovnjaki trdijo\, da se ob učenju kaligrafije razvija človekov temperament in umirjenost. Izboljša se sposobnost opazovanja\, subtilnosti\, kreativnosti in samostojnosti. Ob enem pa je pridobljena veščina dobrodošla in nepogrešljiva pri oblikovanju prazničnih voščilnic\, vabil\, pohval in priznanj\, na katere so lahko tečajniki še posebej ponosni. \n\n			\n				\n			\n			\n				\n			\n			\n				\n			\n			\n				\n			\n			\n				\n			\n		\n\nKOTIZACIJA\n\n16 urni tečaj                                                                                               150\,00 €\n\nTa znesek pa vsebuje zraven kvalitetne izvedbe tečaja še: \n– kovinsko kaligrafsko pero in tuš \n– vso potrebno gradivo – vajenice \n\n	Notice: JavaScript is required for this content.\n\n\n    \n\n\n        \n        \n        \n\n\n\n\n\n 
URL:https://kaligrafija.eu/event/tecaj-kaligrafije-ljubljana/
LOCATION:Waldorfska šola Ljubljana\, Streliška ulica 12\, Ljubljana\, 1000\, Slovenija
ATTACH;FMTTYPE=image/png:https://kaligrafija.eu/wp-content/uploads/2019/08/unnamed-4.png
ORGANIZER;CN="Natalija Resnik":MAILTO:nrg@ustvarjalnost.si
END:VEVENT
BEGIN:VEVENT
DTSTART;TZID=Europe/Ljubljana:20241108T163000
DTEND;TZID=Europe/Ljubljana:20241108T193000
DTSTAMP:20260425T034838
CREATED:20220108T115638Z
LAST-MODIFIED:20240827T150536Z
UID:2408-1731083400-1731094200@kaligrafija.eu
SUMMARY:Tečaj kaligrafije - Žalec
DESCRIPTION:16 urni tečaj:\nPoteka 4 krat po 4 šolske ure\, med 16. 30 in 19. 30. \n8. novembra\, 15. novembra\, 22. novembra in 29. novembra 2024. \n\nO LEPOPISJU – KALIGRAFIJI\nOb učenju veščin pisanja in ob vajah lepopisja oz. kaligrafije razvijamo koncentracijo in sposobnost za vizualizacijo. Ob potezah peresa v določeni smeri se tečajniki učijo prepoznati detajle posameznih črk in tako razvijajo sposobnost pozornosti. Ta veščina ročnega izražanja je posebej primerna za otroke\, pa tudi odrasle\, ki v svetu polnem digitalne tehnike nimajo možnosti izvajati ročnih spretnosti in tako skozi zabavo razvijati sposobnost osredotočanja misli in predvsem potrpežljivosti. \nPrav zaradi teh lastnosti se kaligrafija prav tako uporablja v terapevtske namene kot neke vrste meditacija. Zaradi tehničnega izziva\, ki ga kaligrafija predstavlja\, strokovnjaki trdijo\, da se ob učenju kaligrafije razvija človekov temperament in umirjenost. Izboljša se sposobnost opazovanja\, subtilnosti\, kreativnosti in samostojnosti. Ob enem pa je pridobljena veščina dobrodošla in nepogrešljiva pri oblikovanju prazničnih voščilnic\, vabil\, pohval in priznanj\, na katere so lahko tečajniki še posebej ponosni. \n\n			\n				\n			\n			\n				\n			\n			\n				\n			\n			\n				\n			\n			\n				\n			\n		\n\nKOTIZACIJA\n\n16 urni tečaj                                                                                               140\,00 \n\nTa znesek pa vsebuje zraven kvalitetne izvedbe tečaja še: \n– kovinsko kaligrafsko pero in tuš \n– vso potrebno gradivo – vajenice \n  \n\n\n\n\n\n\n	Notice: JavaScript is required for this content.
URL:https://kaligrafija.eu/event/tecaj-kaligrafije-zalec-2/
LOCATION:Medobčinska splošna knjižnica Žalec\, Aškerčeva ulica 9a\, Žalec\, 3310\, Slovenija
ATTACH;FMTTYPE=image/png:https://kaligrafija.eu/wp-content/uploads/2019/08/unnamed.png
ORGANIZER;CN="Natalija Resnik":MAILTO:nrg@ustvarjalnost.si
END:VEVENT
END:VCALENDAR